Workbook

Sheet Souhrn
A1: Generováno (CET): 26.10.2026 17:41:13
A3: Pořadí ve 2. etapě
A4: P. | B4: # | C4: Posádka | D4: Vůz | E4: Třída | F4: Celkem | G4: +/-
A5: 1 | B5: 4 | C5: CZE | Peták Josef CZE | Benešová Alena Brynda Racing | D5: Škoda Fabia RS Rally2 | E5: S1 1. | F5: 38:32.4 | G5: - -
A6: 2 | B6: 10 | C6: CZE | Koutenský Vojtěch CZE | Ráž Jan KICKER RACING AUTOKLUB v AČR | D6: Ford Fiesta R5 | E6: S1 2. | F6: 38:44.1 | G6: +11.7 +11.7
A7: 3 | B7: 5 | C7: CZE | Starý Tomáš Jaroslav CZE | Rada jun. Martin TJS Racing | D7: Opel Corsa Rally4 | E7: S2 1. | F7: 38:44.8 | G7: +12.4 +0.7
A8: 4 | B8: 6 | C8: CZE | Boček jun. Jiří CZE | Boček Jiří Boček-Motorsport | D8: Opel Corsa Rally4 | E8: S2 2. | F8: 39:04.0 | G8: +31.6 +19.2
A9: 5 | B9: 2 | C9: CZE | Kdér Martin CZE | Šmíd Tomáš ASK-ME Racing | D9: Škoda Fabia R5 | E9: S1 3. | F9: 39:11.0 | G9: +38.6 +7.0
A10: 6 | B10: 7 | C10: CZE | Savruk Michal CZE | Stross Jiří Brynda Racing | D10: Škoda Fabia R5 | E10: S1 4. | F10: 39:21.1 | G10: +48.7 +10.1
A11: 7 | B11: 1 | C11: CZE | Mottl Martin CZE | Malý Petr Brynda Racing | D11: Škoda Fabia R5 | E11: S1 5. | F11: 39:29.1 | G11: +56.7 +8.0
A12: 8 | B12: 3 | C12: CZE | Padrta Lukáš CZE | Starý Vojtěch Stappa mix | D12: Škoda Fabia Rally2 Evo | E12: S1 6. | F12: 39:47.3 | G12: +1:14.9 +18.2
A13: 9 | B13: 9 | C13: CZE | Kotrmon Libor CZE | Pečenková Vera Nadoko Racing | D13: Škoda Fabia Rally2 Evo | E13: S1 7. | F13: 40:47.5 | G13: +2:15.1 +1:00.2
A14: 10 | B14: 22 | C14: CZE | Oščádal Oldřich CZE | Vláčilová Nicola Oščádal Racing Team | D14: Ford Fiesta Rally4 | E14: S2 3. | F14: 41:25.7 | G14: +2:53.3 +38.2
A15: 11 | B15: 20 | C15: DEU | Richter Clemens DEU | Richter Pitt Richter Rallye Sport | D15: Ford Fiesta Rally4 | E15: S2 4. | F15: 41:45.5 | G15: +3:13.1 +19.8
A16: 12 | B16: 23 | C16: CZE | Babička Michal CZE | Pfajfr Tomáš Michal Babička | D16: Ford Fiesta Rally4 | E16: S2 5. | F16: 43:40.9 (+00:20) | G16: +5:08.5 +1:55.4
... A18: 14 | B18: 62 | C18: CZE | Karek Macek FRA | Riquois Josephine Motor Team Macek s.r.o. | D18: Toyota Yaris AP4 | E18: S3 1. | F18: 48:42.5 | G18: +10:10.1 +5:00.7
A20: Odstoupili
A21: # | B21: Posádka | C21: Vůz | D21: Místo | E21: Důvod
A23: Vyloučeni
A24: # | B24: Posádka | C24: Vůz | D24: Místo | E24: Důvod
A26: Penalizace
A27: # | B27: Posádka | C27: Penalizace | D27: Místo | E27: Důvod
A28: 19 | B28: DEU | Frank Markus DEU | Meindl Matthias | C28: 00:10 | D28: RZ10 Fojtovice - Nakléřov | E28: Předčasný start
A29: 23 | B29: CZE | Babička Michal CZE | Pfajfr Tomáš | C29: 00:20 | D29: RZ8 Lbín - Úpoř | E29: Retardér

Sheet Pořadí ve 2. etapě
A1: Generováno (CET): 26.10.2026 17:41:13
A3: ='Souhrn'!A4 -> P. | B3: ='Souhrn'!B4 -> 0 | C3: ='Souhrn'!C4 -> Posádka | D3: ='Souhrn'!D4 -> Vůz | E3: ='Souhrn'!E4 -> Třída | F3: ='Souhrn'!F4 -> Celkem | G3: ='Souhrn'!G4 -> +/-
A4: ='Souhrn'!A5 -> 1 | B4: ='Souhrn'!B5 -> 4 | C4: ='Souhrn'!C5 -> CZE | Peták Josef CZE | Benešová Alena Brynda Racing | D4: ='Souhrn'!D5 -> Škoda Fabia RS Rally2 | E4: ='Souhrn'!E5 -> S1 1. | F4: ='Souhrn'!F5 -> 38:32.4 | G4: ='Souhrn'!G5 -> - -
A5: ='Souhrn'!A6 -> 2 | B5: ='Souhrn'!B6 -> 10 | C5: ='Souhrn'!C6 -> CZE | Koutenský Vojtěch CZE | Ráž Jan KICKER RACING AUTOKLUB v AČR | D5: ='Souhrn'!D6 -> Ford Fiesta R5 | E5: ='Souhrn'!E6 -> S1 2. | F5: ='Souhrn'!F6 -> 38:44.1 | G5: ='Souhrn'!G6 -> +11.7 +11.7
A6: ='Souhrn'!A7 -> 3 | B6: ='Souhrn'!B7 -> 5 | C6: ='Souhrn'!C7 -> CZE | Starý Tomáš Jaroslav CZE | Rada jun. Martin TJS Racing | D6: ='Souhrn'!D7 -> Opel Corsa Rally4 | E6: ='Souhrn'!E7 -> S2 1. | F6: ='Souhrn'!F7 -> 38:44.8 | G6: ='Souhrn'!G7 -> +12.4 +0.7
A7: ='Souhrn'!A8 -> 4 | B7: ='Souhrn'!B8 -> 6 | C7: ='Souhrn'!C8 -> CZE | Boček jun. Jiří CZE | Boček Jiří Boček-Motorsport | D7: ='Souhrn'!D8 -> Opel Corsa Rally4 | E7: ='Souhrn'!E8 -> S2 2. | F7: ='Souhrn'!F8 -> 39:04.0 | G7: ='Souhrn'!G8 -> +31.6 +19.2
A8: ='Souhrn'!A9 -> 5 | B8: ='Souhrn'!B9 -> 2 | C8: ='Souhrn'!C9 -> CZE | Kdér Martin CZE | Šmíd Tomáš ASK-ME Racing | D8: ='Souhrn'!D9 -> Škoda Fabia R5 | E8: ='Souhrn'!E9 -> S1 3. | F8: ='Souhrn'!F9 -> 39:11.0 | G8: ='Souhrn'!G9 -> +38.6 +7.0
A9: ='Souhrn'!A10 -> 6 | B9: ='Souhrn'!B10 -> 7 | C9: ='Souhrn'!C10 -> CZE | Savruk Michal CZE | Stross Jiří Brynda Racing | D9: ='Souhrn'!D10 -> Škoda Fabia R5 | E9: ='Souhrn'!E10 -> S1 4. | F9: ='Souhrn'!F10 -> 39:21.1 | G9: ='Souhrn'!G10 -> +48.7 +10.1
A10: ='Souhrn'!A11 -> 7 | B10: ='Souhrn'!B11 -> 1 | C10: ='Souhrn'!C11 -> CZE | Mottl Martin CZE | Malý Petr Brynda Racing | D10: ='Souhrn'!D11 -> Škoda Fabia R5 | E10: ='Souhrn'!E11 -> S1 5. | F10: ='Souhrn'!F11 -> 39:29.1 | G10: ='Souhrn'!G11 -> +56.7 +8.0
A11: ='Souhrn'!A12 -> 8 | B11: ='Souhrn'!B12 -> 3 | C11: ='Souhrn'!C12 -> CZE | Padrta Lukáš CZE | Starý Vojtěch Stappa mix | D11: ='Souhrn'!D12 -> Škoda Fabia Rally2 Evo | E11: ='Souhrn'!E12 -> S1 6. | F11: ='Souhrn'!F12 -> 39:47.3 | G11: ='Souhrn'!G12 -> +1:14.9 +18.2
A12: ='Souhrn'!A13 -> 9 | B12: ='Souhrn'!B13 -> 9 | C12: ='Souhrn'!C13 -> CZE | Kotrmon Libor CZE | Pečenková Vera Nadoko Racing | D12: ='Souhrn'!D13 -> Škoda Fabia Rally2 Evo | E12: ='Souhrn'!E13 -> S1 7. | F12: ='Souhrn'!F13 -> 40:47.5 | G12: ='Souhrn'!G13 -> +2:15.1 +1:00.2
A13: ='Souhrn'!A14 -> 10 | B13: ='Souhrn'!B14 -> 22 | C13: ='Souhrn'!C14 -> CZE | Oščádal Oldřich CZE | Vláčilová Nicola Oščádal Racing Team | D13: ='Souhrn'!D14 -> Ford Fiesta Rally4 | E13: ='Souhrn'!E14 -> S2 3. | F13: ='Souhrn'!F14 -> 41:25.7 | G13: ='Souhrn'!G14 -> +2:53.3 +38.2
A14: ='Souhrn'!A15 -> 11 | B14: ='Souhrn'!B15 -> 20 | C14: ='Souhrn'!C15 -> DEU | Richter Clemens DEU | Richter Pitt Richter Rallye Sport | D14: ='Souhrn'!D15 -> Ford Fiesta Rally4 | E14: ='Souhrn'!E15 -> S2 4. | F14: ='Souhrn'!F15 -> 41:45.5 | G14: ='Souhrn'!G15 -> +3:13.1 +19.8
... A17: ='Souhrn'!A18 -> 14 | B17: ='Souhrn'!B18 -> 62 | C17: ='Souhrn'!C18 -> CZE | Karek Macek FRA | Riquois Josephine Motor Team Macek s.r.o. | D17: ='Souhrn'!D18 -> Toyota Yaris AP4 | E17: ='Souhrn'!E18 -> S3 1. | F17: ='Souhrn'!F18 -> 48:42.5 | G17: ='Souhrn'!G18 -> +10:10.1 +5:00.7

Sheet Odstoupili
A1: Generováno (CET): 26.10.2026 17:41:13
A3: ='Souhrn'!A21 -> 0 | B3: ='Souhrn'!B21 -> Posádka | C3: ='Souhrn'!C21 -> Vůz | D3: ='Souhrn'!D21 -> Místo | E3: ='Souhrn'!E21 -> Důvod

Sheet Vyloučeni
A1: Generováno (CET): 26.10.2026 17:41:13
A3: ='Souhrn'!A24 -> 0 | B3: ='Souhrn'!B24 -> Posádka | C3: ='Souhrn'!C24 -> Vůz | D3: ='Souhrn'!D24 -> Místo | E3: ='Souhrn'!E24 -> Důvod

Sheet Penalizace
A1: Generováno (CET): 26.10.2026 17:41:13
A3: ='Souhrn'!A27 -> 0 | B3: ='Souhrn'!B27 -> Posádka | C3: ='Souhrn'!C27 -> Penalizace | D3: ='Souhrn'!D27 -> Místo | E3: ='Souhrn'!E27 -> Důvod
A4: ='Souhrn'!A28 -> 19 | B4: ='Souhrn'!B28 -> DEU | Frank Markus DEU | Meindl Matthias | C4: ='Souhrn'!C28 -> 00:10 | D4: ='Souhrn'!D28 -> RZ10 Fojtovice - Nakléřov | E4: ='Souhrn'!E28 -> Předčasný start
A5: ='Souhrn'!A29 -> 23 | B5: ='Souhrn'!B29 -> CZE | Babička Michal CZE | Pfajfr Tomáš | C5: ='Souhrn'!C29 -> 00:20 | D5: ='Souhrn'!D29 -> RZ8 Lbín - Úpoř | E5: ='Souhrn'!E29 -> Retardér
