Workbook

Sheet Souhrn
A1: Generováno (CET): 26.10.2026 16:42:32
A3: Celkové pořadí
A4: P. | B4: # | C4: Posádka | D4: Vůz | E4: Třída | F4: Celkem | G4: +/-
A5: 1 | B5: 21 | C5: CZE | Srb Michal CZE | Pilný Aleš ASK Spořice | D5: Opel Adam R2 | E5: A2 1. | F5: 41:00.2 | G5: - -
A6: 2 | B6: 38 | C6: CZE | Kočí Jiří CZE | Kočí David Dolák Motorsport | D6: Toyota Corolla | E6: A2 2. | F6: 42:26.1 | G6: +1:25.9 +1:25.9
A7: 3 | B7: 41 | C7: CZE | Urban Jakub CZE | Klápště Daniel JU Racing | D7: Opel Adam Cup | E7: A2 3. | F7: 43:12.4 | G7: +2:12.2 +46.3
A8: 4 | B8: 44 | C8: CZE | Zátorský Pavel CZE | Chludil Štěpán Bobo Rally Klub | D8: Citroën Saxo VTS | E8: A2 4. | F8: 44:39.9 | G8: +3:39.7 +1:27.5
A9: 5 | B9: 42 | C9: CZE | Češka Michal CZE | Mazur Vít Raido Racing Team | D9: Opel Adam Cup | E9: A2 5. | F9: 45:51.7 | G9: +4:51.5 +1:11.8
A10: 6 | B10: 39 | C10: CZE | Zenkl Karel CZE | Zenklová Lucie Toyota Wraith | D10: Toyota Corolla | E10: A2 6. | F10: 46:42.1 | G10: +5:41.9 +50.4
A11: 7 | B11: 43 | C11: CZE | Martinovský Vít CZE | Vašíček Ladislav Boxer Auto | D11: Opel Adam Cup | E11: A2 7. | F11: 48:47.0 | G11: +7:46.8 +2:04.9
A13: Odstoupili
A14: # | B14: Posádka | C14: Vůz | D14: Místo | E14: Důvod
A15: 33 | B15: CZE | Stranak Kazimir CZE | Záhorský Milan | C15: Peugeot 106 | D15: ČK 11 | E15: Technická závada
A17: Vyloučeni
A18: # | B18: Posádka | C18: Vůz | D18: Místo | E18: Důvod
A20: Penalizace
A21: # | B21: Posádka | C21: Penalizace | D21: Místo | E21: Důvod

Sheet Celkové pořadí
A1: Generováno (CET): 26.10.2026 16:42:32
A3: ='Souhrn'!A4 -> P. | B3: ='Souhrn'!B4 -> 0 | C3: ='Souhrn'!C4 -> Posádka | D3: ='Souhrn'!D4 -> Vůz | E3: ='Souhrn'!E4 -> Třída | F3: ='Souhrn'!F4 -> Celkem | G3: ='Souhrn'!G4 -> +/-
A4: ='Souhrn'!A5 -> 1 | B4: ='Souhrn'!B5 -> 21 | C4: ='Souhrn'!C5 -> CZE | Srb Michal CZE | Pilný Aleš ASK Spořice | D4: ='Souhrn'!D5 -> Opel Adam R2 | E4: ='Souhrn'!E5 -> A2 1. | F4: ='Souhrn'!F5 -> 41:00.2 | G4: ='Souhrn'!G5 -> - -
A5: ='Souhrn'!A6 -> 2 | B5: ='Souhrn'!B6 -> 38 | C5: ='Souhrn'!C6 -> CZE | Kočí Jiří CZE | Kočí David Dolák Motorsport | D5: ='Souhrn'!D6 -> Toyota Corolla | E5: ='Souhrn'!E6 -> A2 2. | F5: ='Souhrn'!F6 -> 42:26.1 | G5: ='Souhrn'!G6 -> +1:25.9 +1:25.9
A6: ='Souhrn'!A7 -> 3 | B6: ='Souhrn'!B7 -> 41 | C6: ='Souhrn'!C7 -> CZE | Urban Jakub CZE | Klápště Daniel JU Racing | D6: ='Souhrn'!D7 -> Opel Adam Cup | E6: ='Souhrn'!E7 -> A2 3. | F6: ='Souhrn'!F7 -> 43:12.4 | G6: ='Souhrn'!G7 -> +2:12.2 +46.3
A7: ='Souhrn'!A8 -> 4 | B7: ='Souhrn'!B8 -> 44 | C7: ='Souhrn'!C8 -> CZE | Zátorský Pavel CZE | Chludil Štěpán Bobo Rally Klub | D7: ='Souhrn'!D8 -> Citroën Saxo VTS | E7: ='Souhrn'!E8 -> A2 4. | F7: ='Souhrn'!F8 -> 44:39.9 | G7: ='Souhrn'!G8 -> +3:39.7 +1:27.5
A8: ='Souhrn'!A9 -> 5 | B8: ='Souhrn'!B9 -> 42 | C8: ='Souhrn'!C9 -> CZE | Češka Michal CZE | Mazur Vít Raido Racing Team | D8: ='Souhrn'!D9 -> Opel Adam Cup | E8: ='Souhrn'!E9 -> A2 5. | F8: ='Souhrn'!F9 -> 45:51.7 | G8: ='Souhrn'!G9 -> +4:51.5 +1:11.8
A9: ='Souhrn'!A10 -> 6 | B9: ='Souhrn'!B10 -> 39 | C9: ='Souhrn'!C10 -> CZE | Zenkl Karel CZE | Zenklová Lucie Toyota Wraith | D9: ='Souhrn'!D10 -> Toyota Corolla | E9: ='Souhrn'!E10 -> A2 6. | F9: ='Souhrn'!F10 -> 46:42.1 | G9: ='Souhrn'!G10 -> +5:41.9 +50.4
A10: ='Souhrn'!A11 -> 7 | B10: ='Souhrn'!B11 -> 43 | C10: ='Souhrn'!C11 -> CZE | Martinovský Vít CZE | Vašíček Ladislav Boxer Auto | D10: ='Souhrn'!D11 -> Opel Adam Cup | E10: ='Souhrn'!E11 -> A2 7. | F10: ='Souhrn'!F11 -> 48:47.0 | G10: ='Souhrn'!G11 -> +7:46.8 +2:04.9

Sheet Odstoupili
A1: Generováno (CET): 26.10.2026 16:42:32
A3: ='Souhrn'!A14 -> 0 | B3: ='Souhrn'!B14 -> Posádka | C3: ='Souhrn'!C14 -> Vůz | D3: ='Souhrn'!D14 -> Místo | E3: ='Souhrn'!E14 -> Důvod
A4: ='Souhrn'!A15 -> 33 | B4: ='Souhrn'!B15 -> CZE | Stranak Kazimir CZE | Záhorský Milan | C4: ='Souhrn'!C15 -> Peugeot 106 | D4: ='Souhrn'!D15 -> ČK 11 | E4: ='Souhrn'!E15 -> Technická závada

Sheet Vyloučeni
A1: Generováno (CET): 26.10.2026 16:42:32
A3: ='Souhrn'!A18 -> 0 | B3: ='Souhrn'!B18 -> Posádka | C3: ='Souhrn'!C18 -> Vůz | D3: ='Souhrn'!D18 -> Místo | E3: ='Souhrn'!E18 -> Důvod

Sheet Penalizace
A1: Generováno (CET): 26.10.2026 16:42:32
A3: ='Souhrn'!A21 -> 0 | B3: ='Souhrn'!B21 -> Posádka | C3: ='Souhrn'!C21 -> Penalizace | D3: ='Souhrn'!D21 -> Místo | E3: ='Souhrn'!E21 -> Důvod
