Workbook

Sheet Souhrn
A1: Generováno (CET): 26.10.2026 17:39:21
A3: Pořadí ve 3. sekci
A4: P. | B4: # | C4: Posádka | D4: Vůz | E4: Třída | F4: Celkem | G4: +/-
A5: 1 | B5: 69 | C5: CZE | Hodouš Jan CZE | Hodouš Aleš H&H Racing | D5: Wartburg 353 W | E5: H2 1. | F5: 25:50.7 | G5: - -
A6: 2 | B6: 70 | C6: CZE | Bláha Stanislav CZE | Glogar Jakub JČAK Waran RT | D6: Wartburg 353 W | E6: H2 2. | F6: 26:36.7 | G6: +46.0 +46.0
A7: 3 | B7: 67 | C7: CZE | Husák Radko CZE | Husáková Petra Zlatý časy team | D7: Škoda 120 LS | E7: H2 3. | F7: 27:03.4 (+00:10) | G7: +1:12.7 +26.7
A8: 4 | B8: 68 | C8: CZE | Nikšič Sergej CZE | Donát Jiří Hnata Racing Team | D8: Škoda typ 1000 MB B5 | E8: H2 4. | F8: 28:33.9 (+00:50) | G8: +2:43.2 +1:30.5
A10: Odstoupili
A11: # | B11: Posádka | C11: Vůz | D11: Místo | E11: Důvod
A13: Vyloučeni
A14: # | B14: Posádka | C14: Vůz | D14: Místo | E14: Důvod
A16: Penalizace
A17: # | B17: Posádka | C17: Penalizace | D17: Místo | E17: Důvod
A18: 67 | B18: CZE | Husák Radko CZE | Husáková Petra | C18: 00:10 | D18: RZ7 Fojtovice - Nakléřov | E18: Předčasný start
A19: 68 | B19: CZE | Nikšič Sergej CZE | Donát Jiří | C19: 00:20 | D19: ČK 7 | E19: Pozdní příjezd (2 min) do ČK
A20: 68 | B20: CZE | Nikšič Sergej CZE | Donát Jiří | C20: 00:30 | D20: RZ8 Lbín - Úpoř | E20: Retardér

Sheet Pořadí ve 3. sekci
A1: Generováno (CET): 26.10.2026 17:39:21
A3: ='Souhrn'!A4 -> P. | B3: ='Souhrn'!B4 -> 0 | C3: ='Souhrn'!C4 -> Posádka | D3: ='Souhrn'!D4 -> Vůz | E3: ='Souhrn'!E4 -> Třída | F3: ='Souhrn'!F4 -> Celkem | G3: ='Souhrn'!G4 -> +/-
A4: ='Souhrn'!A5 -> 1 | B4: ='Souhrn'!B5 -> 69 | C4: ='Souhrn'!C5 -> CZE | Hodouš Jan CZE | Hodouš Aleš H&H Racing | D4: ='Souhrn'!D5 -> Wartburg 353 W | E4: ='Souhrn'!E5 -> H2 1. | F4: ='Souhrn'!F5 -> 25:50.7 | G4: ='Souhrn'!G5 -> - -
A5: ='Souhrn'!A6 -> 2 | B5: ='Souhrn'!B6 -> 70 | C5: ='Souhrn'!C6 -> CZE | Bláha Stanislav CZE | Glogar Jakub JČAK Waran RT | D5: ='Souhrn'!D6 -> Wartburg 353 W | E5: ='Souhrn'!E6 -> H2 2. | F5: ='Souhrn'!F6 -> 26:36.7 | G5: ='Souhrn'!G6 -> +46.0 +46.0
A6: ='Souhrn'!A7 -> 3 | B6: ='Souhrn'!B7 -> 67 | C6: ='Souhrn'!C7 -> CZE | Husák Radko CZE | Husáková Petra Zlatý časy team | D6: ='Souhrn'!D7 -> Škoda 120 LS | E6: ='Souhrn'!E7 -> H2 3. | F6: ='Souhrn'!F7 -> 27:03.4 (+00:10) | G6: ='Souhrn'!G7 -> +1:12.7 +26.7
A7: ='Souhrn'!A8 -> 4 | B7: ='Souhrn'!B8 -> 68 | C7: ='Souhrn'!C8 -> CZE | Nikšič Sergej CZE | Donát Jiří Hnata Racing Team | D7: ='Souhrn'!D8 -> Škoda typ 1000 MB B5 | E7: ='Souhrn'!E8 -> H2 4. | F7: ='Souhrn'!F8 -> 28:33.9 (+00:50) | G7: ='Souhrn'!G8 -> +2:43.2 +1:30.5

Sheet Odstoupili
A1: Generováno (CET): 26.10.2026 17:39:21
A3: ='Souhrn'!A11 -> 0 | B3: ='Souhrn'!B11 -> Posádka | C3: ='Souhrn'!C11 -> Vůz | D3: ='Souhrn'!D11 -> Místo | E3: ='Souhrn'!E11 -> Důvod

Sheet Vyloučeni
A1: Generováno (CET): 26.10.2026 17:39:21
A3: ='Souhrn'!A14 -> 0 | B3: ='Souhrn'!B14 -> Posádka | C3: ='Souhrn'!C14 -> Vůz | D3: ='Souhrn'!D14 -> Místo | E3: ='Souhrn'!E14 -> Důvod

Sheet Penalizace
A1: Generováno (CET): 26.10.2026 17:39:21
A3: ='Souhrn'!A17 -> 0 | B3: ='Souhrn'!B17 -> Posádka | C3: ='Souhrn'!C17 -> Penalizace | D3: ='Souhrn'!D17 -> Místo | E3: ='Souhrn'!E17 -> Důvod
A4: ='Souhrn'!A18 -> 67 | B4: ='Souhrn'!B18 -> CZE | Husák Radko CZE | Husáková Petra | C4: ='Souhrn'!C18 -> 00:10 | D4: ='Souhrn'!D18 -> RZ7 Fojtovice - Nakléřov | E4: ='Souhrn'!E18 -> Předčasný start
A5: ='Souhrn'!A19 -> 68 | B5: ='Souhrn'!B19 -> CZE | Nikšič Sergej CZE | Donát Jiří | C5: ='Souhrn'!C19 -> 00:20 | D5: ='Souhrn'!D19 -> ČK 7 | E5: ='Souhrn'!E19 -> Pozdní příjezd (2 min) do ČK
A6: ='Souhrn'!A20 -> 68 | B6: ='Souhrn'!B20 -> CZE | Nikšič Sergej CZE | Donát Jiří | C6: ='Souhrn'!C20 -> 00:30 | D6: ='Souhrn'!D20 -> RZ8 Lbín - Úpoř | E6: ='Souhrn'!E20 -> Retardér
