Workbook

Sheet Souhrn
A1: Generováno (CET): 26.10.2026 17:39:49
A3: Pořadí ve 4. sekci
A4: P. | B4: # | C4: Posádka | D4: Vůz | E4: Třída | F4: Celkem | G4: +/-
A5: 1 | B5: 48 | C5: CZE | Dlouhý Aleš CZE | Jenka Petr AMD racing | D5: Škoda Favorit 136 L | E5: H5 1. | F5: 22:36.7 | G5: - -
A6: 2 | B6: 49 | C6: CZE | Tůma Luboš CZE | Viktora Pavel Autodíly Viktorová | D6: Škoda Favorit | E6: H5 2. | F6: 23:39.1 | G6: +1:02.4 +1:02.4
A7: 3 | B7: 60 | C7: CZE | Zmijarov Dan CZE | Bartůněk Jan Hnata Racing Team | D7: Škoda Favorit 136 L | E7: H5 3. | F7: 23:57.1 | G7: +1:20.4 +18.0
A8: 4 | B8: 59 | C8: CZE | Beránek Svatopluk CZE | Beránková Michaela Garage Neratovice | D8: Škoda Favorit | E8: H5 4. | F8: 24:38.3 | G8: +2:01.6 +41.2
A9: 5 | B9: 61 | C9: CZE | Faltys Matěj CZE | Vodhánělová Štěpanka Amorek Motorsport | D9: Škoda Favorit | E9: H5 5. | F9: 25:03.1 | G9: +2:26.4 +24.8
A11: Odstoupili
A12: # | B12: Posádka | C12: Vůz | D12: Místo | E12: Důvod
A14: Vyloučeni
A15: # | B15: Posádka | C15: Vůz | D15: Místo | E15: Důvod
A17: Penalizace
A18: # | B18: Posádka | C18: Penalizace | D18: Místo | E18: Důvod

Sheet Pořadí ve 4. sekci
A1: Generováno (CET): 26.10.2026 17:39:49
A3: ='Souhrn'!A4 -> P. | B3: ='Souhrn'!B4 -> 0 | C3: ='Souhrn'!C4 -> Posádka | D3: ='Souhrn'!D4 -> Vůz | E3: ='Souhrn'!E4 -> Třída | F3: ='Souhrn'!F4 -> Celkem | G3: ='Souhrn'!G4 -> +/-
A4: ='Souhrn'!A5 -> 1 | B4: ='Souhrn'!B5 -> 48 | C4: ='Souhrn'!C5 -> CZE | Dlouhý Aleš CZE | Jenka Petr AMD racing | D4: ='Souhrn'!D5 -> Škoda Favorit 136 L | E4: ='Souhrn'!E5 -> H5 1. | F4: ='Souhrn'!F5 -> 22:36.7 | G4: ='Souhrn'!G5 -> - -
A5: ='Souhrn'!A6 -> 2 | B5: ='Souhrn'!B6 -> 49 | C5: ='Souhrn'!C6 -> CZE | Tůma Luboš CZE | Viktora Pavel Autodíly Viktorová | D5: ='Souhrn'!D6 -> Škoda Favorit | E5: ='Souhrn'!E6 -> H5 2. | F5: ='Souhrn'!F6 -> 23:39.1 | G5: ='Souhrn'!G6 -> +1:02.4 +1:02.4
A6: ='Souhrn'!A7 -> 3 | B6: ='Souhrn'!B7 -> 60 | C6: ='Souhrn'!C7 -> CZE | Zmijarov Dan CZE | Bartůněk Jan Hnata Racing Team | D6: ='Souhrn'!D7 -> Škoda Favorit 136 L | E6: ='Souhrn'!E7 -> H5 3. | F6: ='Souhrn'!F7 -> 23:57.1 | G6: ='Souhrn'!G7 -> +1:20.4 +18.0
A7: ='Souhrn'!A8 -> 4 | B7: ='Souhrn'!B8 -> 59 | C7: ='Souhrn'!C8 -> CZE | Beránek Svatopluk CZE | Beránková Michaela Garage Neratovice | D7: ='Souhrn'!D8 -> Škoda Favorit | E7: ='Souhrn'!E8 -> H5 4. | F7: ='Souhrn'!F8 -> 24:38.3 | G7: ='Souhrn'!G8 -> +2:01.6 +41.2
A8: ='Souhrn'!A9 -> 5 | B8: ='Souhrn'!B9 -> 61 | C8: ='Souhrn'!C9 -> CZE | Faltys Matěj CZE | Vodhánělová Štěpanka Amorek Motorsport | D8: ='Souhrn'!D9 -> Škoda Favorit | E8: ='Souhrn'!E9 -> H5 5. | F8: ='Souhrn'!F9 -> 25:03.1 | G8: ='Souhrn'!G9 -> +2:26.4 +24.8

Sheet Odstoupili
A1: Generováno (CET): 26.10.2026 17:39:49
A3: ='Souhrn'!A12 -> 0 | B3: ='Souhrn'!B12 -> Posádka | C3: ='Souhrn'!C12 -> Vůz | D3: ='Souhrn'!D12 -> Místo | E3: ='Souhrn'!E12 -> Důvod

Sheet Vyloučeni
A1: Generováno (CET): 26.10.2026 17:39:49
A3: ='Souhrn'!A15 -> 0 | B3: ='Souhrn'!B15 -> Posádka | C3: ='Souhrn'!C15 -> Vůz | D3: ='Souhrn'!D15 -> Místo | E3: ='Souhrn'!E15 -> Důvod

Sheet Penalizace
A1: Generováno (CET): 26.10.2026 17:39:49
A3: ='Souhrn'!A18 -> 0 | B3: ='Souhrn'!B18 -> Posádka | C3: ='Souhrn'!C18 -> Penalizace | D3: ='Souhrn'!D18 -> Místo | E3: ='Souhrn'!E18 -> Důvod
