Workbook

Sheet Souhrn
A1: Generováno (CET): 26.10.2026 17:38:09
A3: Pořadí po 3. sekci
A4: P. | B4: # | C4: Posádka | D4: Vůz | E4: Třída | F4: Celkem | G4: +/-
A5: 1 | B5: 4 | C5: CZE | Peták Josef CZE | Benešová Alena Brynda Racing | D5: Škoda Fabia RS Rally2 | E5: S1 1. | F5: 19:06.1 | G5: - -
A6: 2 | B6: 10 | C6: CZE | Koutenský Vojtěch CZE | Ráž Jan KICKER RACING AUTOKLUB v AČR | D6: Ford Fiesta R5 | E6: S1 2. | F6: 19:34.7 | G6: +28.6 +28.6
A7: 3 | B7: 5 | C7: CZE | Starý Tomáš Jaroslav CZE | Rada jun. Martin TJS Racing | D7: Opel Corsa Rally4 | E7: S2 1. | F7: 19:38.9 | G7: +32.8 +4.2
A8: 4 | B8: 7 | C8: CZE | Savruk Michal CZE | Stross Jiří Brynda Racing | D8: Škoda Fabia R5 | E8: S1 3. | F8: 19:39.8 | G8: +33.7 +0.9
A9: 5 | B9: 2 | C9: CZE | Kdér Martin CZE | Šmíd Tomáš ASK-ME Racing | D9: Škoda Fabia R5 | E9: S1 4. | F9: 19:40.9 | G9: +34.8 +1.1
A10: 6 | B10: 6 | C10: CZE | Boček jun. Jiří CZE | Boček Jiří Boček-Motorsport | D10: Opel Corsa Rally4 | E10: S2 2. | F10: 19:44.4 | G10: +38.3 +3.5
A11: 7 | B11: 3 | C11: CZE | Padrta Lukáš CZE | Starý Vojtěch Stappa mix | D11: Škoda Fabia Rally2 Evo | E11: S1 5. | F11: 19:57.8 | G11: +51.7 +13.4
A12: 8 | B12: 1 | C12: CZE | Mottl Martin CZE | Malý Petr Brynda Racing | D12: Škoda Fabia R5 | E12: S1 6. | F12: 19:59.0 | G12: +52.9 +1.2
A13: 9 | B13: 11 | C13: CZE | Kratochvíl David CZE | Olšaník Jan K2 Racing | D13: Ford Fiesta Proto | E13: A4 1. | F13: 20:24.0 (+00:10) | G13: +1:17.9 +25.0
A14: 10 | B14: 9 | C14: CZE | Kotrmon Libor CZE | Pečenková Vera Nadoko Racing | D14: Škoda Fabia Rally2 Evo | E14: S1 7. | F14: 20:26.0 | G14: +1:19.9 +2.0
A15: 11 | B15: 12 | C15: CZE | Kratochvíl Jiří CZE | Vacek Lukáš Racing Spirit Team | D15: Mitsubishi Lancer Evo X | E15: A4 2. | F15: 20:27.4 | G15: +1:21.3 +1.4
A16: 12 | B16: 21 | C16: CZE | Srb Michal CZE | Pilný Aleš ASK Spořice | D16: Opel Adam R2 | E16: A2 1. | F16: 20:27.7 | G16: +1:21.6 +0.3
... A59: 55 | B59: 37 | C59: CZE | Hosnedl Jan CZE | Němec Jan JH autosport Ořech | D59: Renault Clio Sport | E59: A3 3. | F59: 28:38.4 (+06:10) | G59: +9:32.3 +4.5
A61: Odstoupili
A62: # | B62: Posádka | C62: Vůz | D62: Místo | E62: Důvod
A63: 14 | B63: CZE | Burget Roman CZE | Smrčková Kristýna | C63: Porsche 997 GT3 | D63: RZ7 Fojtovice - Nakléřov | E63: Klínový řemen
A64: 15 | B64: CZE | Brázda Jakub CZE | Šanta Martin | C64: Mitsubishi Lancer Evo IX | D64: ČK 8 | E64: Technická závada
A65: 16 | B65: CZE | Machala Marian CZE | Machala Bohumil | C65: Škoda Octavia | D65: RZ7 Fojtovice - Nakléřov | E65: Kardan
A66: 34 | B66: CZE | Streit Michal CZE | Bartoň Tomáš | C66: Škoda 130 LR | D66: RZ8 Lbín - Úpoř | E66: Poloosa
A67: 47 | B67: CZE | Petřík Jan CZE | Pavlas Marek | C67: Škoda Favorit 136 L/A | D67: ČK 8 | E67: Převodovka
A68: 55 | B68: CZE | Vidinli Denis CZE | Frous Josef | C68: Renault Mégane Mk2 | D68: ČK 9 | E68: Poloosa
A70: Vyloučeni
A71: # | B71: Posádka | C71: Vůz | D71: Místo | E71: Důvod
A73: Penalizace
A74: # | B74: Posádka | C74: Penalizace | D74: Místo | E74: Důvod
A75: 11 | B75: CZE | Kratochvíl David CZE | Olšaník Jan | C75: 00:10 | D75: RZ7 Fojtovice - Nakléřov | E75: Předčasný start
A76: 23 | B76: CZE | Babička Michal CZE | Pfajfr Tomáš | C76: 00:20 | D76: RZ8 Lbín - Úpoř | E76: Retardér
A77: 37 | B77: CZE | Hosnedl Jan CZE | Němec Jan | C77: 00:10 | D77: RZ7 Fojtovice - Nakléřov | E77: Předčasný start
A78: 37 | B78: CZE | Hosnedl Jan CZE | Němec Jan | C78: 06:00 | D78: RZ7 Fojtovice - Nakléřov | E78: Zpožděný start vinou posádky
A79: 55 | B79: CZE | Vidinli Denis CZE | Frous Josef | C79: 00:20 | D79: RZ8 Lbín - Úpoř | E79: Retardér
A80: 56 | B80: CZE | Andrys František CZE | Strnad Vlastimil | C80: 00:20 | D80: RZ8 Lbín - Úpoř | E80: Retardér
A81: 58 | B81: CZE | Dohnal Jiří CZE | Maurer Jakub | C81: 00:20 | D81: RZ8 Lbín - Úpoř | E81: Retardér
A82: 61 | B82: CZE | Faltys Matěj CZE | Vodhánělová Štěpanka | C82: 00:20 | D82: RZ9 Osek - Nové Město | E82: Retardér
A83: 67 | B83: CZE | Husák Radko CZE | Husáková Petra | C83: 00:10 | D83: RZ7 Fojtovice - Nakléřov | E83: Předčasný start
A84: 68 | B84: CZE | Nikšič Sergej CZE | Donát Jiří | C84: 00:20 | D84: ČK 7 | E84: Pozdní příjezd (2 min) do ČK
A85: 68 | B85: CZE | Nikšič Sergej CZE | Donát Jiří | C85: 00:30 | D85: RZ8 Lbín - Úpoř | E85: Retardér

Sheet Pořadí po 3. sekci
A1: Generováno (CET): 26.10.2026 17:38:09
A3: ='Souhrn'!A4 -> P. | B3: ='Souhrn'!B4 -> 0 | C3: ='Souhrn'!C4 -> Posádka | D3: ='Souhrn'!D4 -> Vůz | E3: ='Souhrn'!E4 -> Třída | F3: ='Souhrn'!F4 -> Celkem | G3: ='Souhrn'!G4 -> +/-
A4: ='Souhrn'!A5 -> 1 | B4: ='Souhrn'!B5 -> 4 | C4: ='Souhrn'!C5 -> CZE | Peták Josef CZE | Benešová Alena Brynda Racing | D4: ='Souhrn'!D5 -> Škoda Fabia RS Rally2 | E4: ='Souhrn'!E5 -> S1 1. | F4: ='Souhrn'!F5 -> 19:06.1 | G4: ='Souhrn'!G5 -> - -
A5: ='Souhrn'!A6 -> 2 | B5: ='Souhrn'!B6 -> 10 | C5: ='Souhrn'!C6 -> CZE | Koutenský Vojtěch CZE | Ráž Jan KICKER RACING AUTOKLUB v AČR | D5: ='Souhrn'!D6 -> Ford Fiesta R5 | E5: ='Souhrn'!E6 -> S1 2. | F5: ='Souhrn'!F6 -> 19:34.7 | G5: ='Souhrn'!G6 -> +28.6 +28.6
A6: ='Souhrn'!A7 -> 3 | B6: ='Souhrn'!B7 -> 5 | C6: ='Souhrn'!C7 -> CZE | Starý Tomáš Jaroslav CZE | Rada jun. Martin TJS Racing | D6: ='Souhrn'!D7 -> Opel Corsa Rally4 | E6: ='Souhrn'!E7 -> S2 1. | F6: ='Souhrn'!F7 -> 19:38.9 | G6: ='Souhrn'!G7 -> +32.8 +4.2
A7: ='Souhrn'!A8 -> 4 | B7: ='Souhrn'!B8 -> 7 | C7: ='Souhrn'!C8 -> CZE | Savruk Michal CZE | Stross Jiří Brynda Racing | D7: ='Souhrn'!D8 -> Škoda Fabia R5 | E7: ='Souhrn'!E8 -> S1 3. | F7: ='Souhrn'!F8 -> 19:39.8 | G7: ='Souhrn'!G8 -> +33.7 +0.9
A8: ='Souhrn'!A9 -> 5 | B8: ='Souhrn'!B9 -> 2 | C8: ='Souhrn'!C9 -> CZE | Kdér Martin CZE | Šmíd Tomáš ASK-ME Racing | D8: ='Souhrn'!D9 -> Škoda Fabia R5 | E8: ='Souhrn'!E9 -> S1 4. | F8: ='Souhrn'!F9 -> 19:40.9 | G8: ='Souhrn'!G9 -> +34.8 +1.1
A9: ='Souhrn'!A10 -> 6 | B9: ='Souhrn'!B10 -> 6 | C9: ='Souhrn'!C10 -> CZE | Boček jun. Jiří CZE | Boček Jiří Boček-Motorsport | D9: ='Souhrn'!D10 -> Opel Corsa Rally4 | E9: ='Souhrn'!E10 -> S2 2. | F9: ='Souhrn'!F10 -> 19:44.4 | G9: ='Souhrn'!G10 -> +38.3 +3.5
A10: ='Souhrn'!A11 -> 7 | B10: ='Souhrn'!B11 -> 3 | C10: ='Souhrn'!C11 -> CZE | Padrta Lukáš CZE | Starý Vojtěch Stappa mix | D10: ='Souhrn'!D11 -> Škoda Fabia Rally2 Evo | E10: ='Souhrn'!E11 -> S1 5. | F10: ='Souhrn'!F11 -> 19:57.8 | G10: ='Souhrn'!G11 -> +51.7 +13.4
A11: ='Souhrn'!A12 -> 8 | B11: ='Souhrn'!B12 -> 1 | C11: ='Souhrn'!C12 -> CZE | Mottl Martin CZE | Malý Petr Brynda Racing | D11: ='Souhrn'!D12 -> Škoda Fabia R5 | E11: ='Souhrn'!E12 -> S1 6. | F11: ='Souhrn'!F12 -> 19:59.0 | G11: ='Souhrn'!G12 -> +52.9 +1.2
A12: ='Souhrn'!A13 -> 9 | B12: ='Souhrn'!B13 -> 11 | C12: ='Souhrn'!C13 -> CZE | Kratochvíl David CZE | Olšaník Jan K2 Racing | D12: ='Souhrn'!D13 -> Ford Fiesta Proto | E12: ='Souhrn'!E13 -> A4 1. | F12: ='Souhrn'!F13 -> 20:24.0 (+00:10) | G12: ='Souhrn'!G13 -> +1:17.9 +25.0
A13: ='Souhrn'!A14 -> 10 | B13: ='Souhrn'!B14 -> 9 | C13: ='Souhrn'!C14 -> CZE | Kotrmon Libor CZE | Pečenková Vera Nadoko Racing | D13: ='Souhrn'!D14 -> Škoda Fabia Rally2 Evo | E13: ='Souhrn'!E14 -> S1 7. | F13: ='Souhrn'!F14 -> 20:26.0 | G13: ='Souhrn'!G14 -> +1:19.9 +2.0
A14: ='Souhrn'!A15 -> 11 | B14: ='Souhrn'!B15 -> 12 | C14: ='Souhrn'!C15 -> CZE | Kratochvíl Jiří CZE | Vacek Lukáš Racing Spirit Team | D14: ='Souhrn'!D15 -> Mitsubishi Lancer Evo X | E14: ='Souhrn'!E15 -> A4 2. | F14: ='Souhrn'!F15 -> 20:27.4 | G14: ='Souhrn'!G15 -> +1:21.3 +1.4
... A58: ='Souhrn'!A59 -> 55 | B58: ='Souhrn'!B59 -> 37 | C58: ='Souhrn'!C59 -> CZE | Hosnedl Jan CZE | Němec Jan JH autosport Ořech | D58: ='Souhrn'!D59 -> Renault Clio Sport | E58: ='Souhrn'!E59 -> A3 3. | F58: ='Souhrn'!F59 -> 28:38.4 (+06:10) | G58: ='Souhrn'!G59 -> +9:32.3 +4.5

Sheet Odstoupili
A1: Generováno (CET): 26.10.2026 17:38:09
A3: ='Souhrn'!A62 -> 0 | B3: ='Souhrn'!B62 -> Posádka | C3: ='Souhrn'!C62 -> Vůz | D3: ='Souhrn'!D62 -> Místo | E3: ='Souhrn'!E62 -> Důvod
A4: ='Souhrn'!A63 -> 14 | B4: ='Souhrn'!B63 -> CZE | Burget Roman CZE | Smrčková Kristýna | C4: ='Souhrn'!C63 -> Porsche 997 GT3 | D4: ='Souhrn'!D63 -> RZ7 Fojtovice - Nakléřov | E4: ='Souhrn'!E63 -> Klínový řemen
A5: ='Souhrn'!A64 -> 15 | B5: ='Souhrn'!B64 -> CZE | Brázda Jakub CZE | Šanta Martin | C5: ='Souhrn'!C64 -> Mitsubishi Lancer Evo IX | D5: ='Souhrn'!D64 -> ČK 8 | E5: ='Souhrn'!E64 -> Technická závada
A6: ='Souhrn'!A65 -> 16 | B6: ='Souhrn'!B65 -> CZE | Machala Marian CZE | Machala Bohumil | C6: ='Souhrn'!C65 -> Škoda Octavia | D6: ='Souhrn'!D65 -> RZ7 Fojtovice - Nakléřov | E6: ='Souhrn'!E65 -> Kardan
A7: ='Souhrn'!A66 -> 34 | B7: ='Souhrn'!B66 -> CZE | Streit Michal CZE | Bartoň Tomáš | C7: ='Souhrn'!C66 -> Škoda 130 LR | D7: ='Souhrn'!D66 -> RZ8 Lbín - Úpoř | E7: ='Souhrn'!E66 -> Poloosa
A8: ='Souhrn'!A67 -> 47 | B8: ='Souhrn'!B67 -> CZE | Petřík Jan CZE | Pavlas Marek | C8: ='Souhrn'!C67 -> Škoda Favorit 136 L/A | D8: ='Souhrn'!D67 -> ČK 8 | E8: ='Souhrn'!E67 -> Převodovka
A9: ='Souhrn'!A68 -> 55 | B9: ='Souhrn'!B68 -> CZE | Vidinli Denis CZE | Frous Josef | C9: ='Souhrn'!C68 -> Renault Mégane Mk2 | D9: ='Souhrn'!D68 -> ČK 9 | E9: ='Souhrn'!E68 -> Poloosa

Sheet Vyloučeni
A1: Generováno (CET): 26.10.2026 17:38:09
A3: ='Souhrn'!A71 -> 0 | B3: ='Souhrn'!B71 -> Posádka | C3: ='Souhrn'!C71 -> Vůz | D3: ='Souhrn'!D71 -> Místo | E3: ='Souhrn'!E71 -> Důvod

Sheet Penalizace
A1: Generováno (CET): 26.10.2026 17:38:09
A3: ='Souhrn'!A74 -> 0 | B3: ='Souhrn'!B74 -> Posádka | C3: ='Souhrn'!C74 -> Penalizace | D3: ='Souhrn'!D74 -> Místo | E3: ='Souhrn'!E74 -> Důvod
A4: ='Souhrn'!A75 -> 11 | B4: ='Souhrn'!B75 -> CZE | Kratochvíl David CZE | Olšaník Jan | C4: ='Souhrn'!C75 -> 00:10 | D4: ='Souhrn'!D75 -> RZ7 Fojtovice - Nakléřov | E4: ='Souhrn'!E75 -> Předčasný start
A5: ='Souhrn'!A76 -> 23 | B5: ='Souhrn'!B76 -> CZE | Babička Michal CZE | Pfajfr Tomáš | C5: ='Souhrn'!C76 -> 00:20 | D5: ='Souhrn'!D76 -> RZ8 Lbín - Úpoř | E5: ='Souhrn'!E76 -> Retardér
A6: ='Souhrn'!A77 -> 37 | B6: ='Souhrn'!B77 -> CZE | Hosnedl Jan CZE | Němec Jan | C6: ='Souhrn'!C77 -> 00:10 | D6: ='Souhrn'!D77 -> RZ7 Fojtovice - Nakléřov | E6: ='Souhrn'!E77 -> Předčasný start
A7: ='Souhrn'!A78 -> 37 | B7: ='Souhrn'!B78 -> CZE | Hosnedl Jan CZE | Němec Jan | C7: ='Souhrn'!C78 -> 06:00 | D7: ='Souhrn'!D78 -> RZ7 Fojtovice - Nakléřov | E7: ='Souhrn'!E78 -> Zpožděný start vinou posádky
A8: ='Souhrn'!A79 -> 55 | B8: ='Souhrn'!B79 -> CZE | Vidinli Denis CZE | Frous Josef | C8: ='Souhrn'!C79 -> 00:20 | D8: ='Souhrn'!D79 -> RZ8 Lbín - Úpoř | E8: ='Souhrn'!E79 -> Retardér
A9: ='Souhrn'!A80 -> 56 | B9: ='Souhrn'!B80 -> CZE | Andrys František CZE | Strnad Vlastimil | C9: ='Souhrn'!C80 -> 00:20 | D9: ='Souhrn'!D80 -> RZ8 Lbín - Úpoř | E9: ='Souhrn'!E80 -> Retardér
A10: ='Souhrn'!A81 -> 58 | B10: ='Souhrn'!B81 -> CZE | Dohnal Jiří CZE | Maurer Jakub | C10: ='Souhrn'!C81 -> 00:20 | D10: ='Souhrn'!D81 -> RZ8 Lbín - Úpoř | E10: ='Souhrn'!E81 -> Retardér
A11: ='Souhrn'!A82 -> 61 | B11: ='Souhrn'!B82 -> CZE | Faltys Matěj CZE | Vodhánělová Štěpanka | C11: ='Souhrn'!C82 -> 00:20 | D11: ='Souhrn'!D82 -> RZ9 Osek - Nové Město | E11: ='Souhrn'!E82 -> Retardér
A12: ='Souhrn'!A83 -> 67 | B12: ='Souhrn'!B83 -> CZE | Husák Radko CZE | Husáková Petra | C12: ='Souhrn'!C83 -> 00:10 | D12: ='Souhrn'!D83 -> RZ7 Fojtovice - Nakléřov | E12: ='Souhrn'!E83 -> Předčasný start
A13: ='Souhrn'!A84 -> 68 | B13: ='Souhrn'!B84 -> CZE | Nikšič Sergej CZE | Donát Jiří | C13: ='Souhrn'!C84 -> 00:20 | D13: ='Souhrn'!D84 -> ČK 7 | E13: ='Souhrn'!E84 -> Pozdní příjezd (2 min) do ČK
A14: ='Souhrn'!A85 -> 68 | B14: ='Souhrn'!B85 -> CZE | Nikšič Sergej CZE | Donát Jiří | C14: ='Souhrn'!C85 -> 00:30 | D14: ='Souhrn'!D85 -> RZ8 Lbín - Úpoř | E14: ='Souhrn'!E85 -> Retardér
